BEGIN:VCALENDAR
VERSION:2.0
PRODID:-//eventon.com NONSGML v1.0//EN
CALSCALE:GREGORIAN
METHOD:PUBLISH
BEGIN:VEVENT
UID:69e62183e7ef3
DTSTAMP:20260420T125219Z
DTSTART:20260501T150000Z
DTEND:20260503T150000Z
LOCATION:Maison de la Tête de Moine Le Domaine 1\,  2713 Bellelay\,  Switzerland
SUMMARY:Tête de Moine Festival – 9th edition
DESCRIPTION:Our Mountains From May 1 to 3\,  2026\,  Bellelay will celebrat
 e a jewel of Swiss culinary heritage with an international cheese platter c
 ompetition\,  a tasting of Tête de Moine and Berner Alpkäse AOP\,  the gu
 est of honor for 2026. Guest of honor &#8220;We are proud to welcome two je
 wels of[..]\nhttps://my.events.contact/events/tete-de-moine-festival-9th-ed
 ition/
URL:https://my.events.contact/events/tete-de-moine-festival-9th-edition/
END:VEVENT
END:VCALENDAR